Workbook

Sheet Config
A1: Constant | B1: 2025 MFJ | C1: 2025 Single | D1: 2026 MFJ | E1: 2026 Single | F1: Selected
A2: SS base threshold (tier1) | B2: 32000 | C2: 25000 | D2: 32000 | E2: 25000 | F2: =IF(Calculator!$D$5=2025,IF(Calculator!$D$6="Married Filing Jointly",B2,C2),IF(Calculator!$D$6="Married Filing Jointly",D2,E2))
A3: SS upper threshold (tier2) | B3: 44000 | C3: 34000 | D3: 44000 | E3: 34000 | F3: =IF(Calculator!$D$5=2025,IF(Calculator!$D$6="Married Filing Jointly",B3,C3),IF(Calculator!$D$6="Married Filing Jointly",D3,E3))
A4: Std deduction base | B4: 31500 | C4: 15750 | D4: 32200 | E4: 16100 | F4: =IF(Calculator!$D$5=2025,IF(Calculator!$D$6="Married Filing Jointly",B4,C4),IF(Calculator!$D$6="Married Filing Jointly",D4,E4))
A5: Add'l std ded per person 65+ | B5: 1600 | C5: 2000 | D5: 1650 | E5: 2050 | F5: =IF(Calculator!$D$5=2025,IF(Calculator!$D$6="Married Filing Jointly",B5,C5),IF(Calculator!$D$6="Married Filing Jointly",D5,E5))
A6: Senior bonus per person 65+ | B6: 6000 | C6: 6000 | D6: 6000 | E6: 6000 | F6: =IF(Calculator!$D$5=2025,IF(Calculator!$D$6="Married Filing Jointly",B6,C6),IF(Calculator!$D$6="Married Filing Jointly",D6,E6))
A7: Senior bonus phaseout start | B7: 150000 | C7: 75000 | D7: 150000 | E7: 75000 | F7: =IF(Calculator!$D$5=2025,IF(Calculator!$D$6="Married Filing Jointly",B7,C7),IF(Calculator!$D$6="Married Filing Jointly",D7,E7))
A8: Senior bonus phaseout rate | B8: 0.06 | C8: 0.06 | D8: 0.06 | E8: 0.06 | F8: =IF(Calculator!$D$5=2025,IF(Calculator!$D$6="Married Filing Jointly",B8,C8),IF(Calculator!$D$6="Married Filing Jointly",D8,E8))
A9: LTCG 0% bracket top | B9: 96700 | C9: 48350 | D9: 98900 | E9: 49450 | F9: =IF(Calculator!$D$5=2025,IF(Calculator!$D$6="Married Filing Jointly",B9,C9),IF(Calculator!$D$6="Married Filing Jointly",D9,E9))
A10: LTCG 15% bracket top | B10: 600050 | C10: 533400 | D10: 613700 | E10: 545500 | F10: =IF(Calculator!$D$5=2025,IF(Calculator!$D$6="Married Filing Jointly",B10,C10),IF(Calculator!$D$6="Married Filing Jointly",D10,E10))
A12: FEDERAL BRACKETS (lower bounds)
B13: 0 | C13: 0 | D13: 0 | E13: 0 | F13: 0.1 | G13: =IF(Calculator!$D$5=2025,IF(Calculator!$D$6="Married Filing Jointly",B13,C13),IF(Calculator!$D$6="Married Filing Jointly",D13,E13))
B14: 23850 | C14: 11925 | D14: 24800 | E14: 12400 | F14: 0.02 | G14: =IF(Calculator!$D$5=2025,IF(Calculator!$D$6="Married Filing Jointly",B14,C14),IF(Calculator!$D$6="Married Filing Jointly",D14,E14))
B15: 96950 | C15: 48475 | D15: 100800 | E15: 50400 | F15: 0.1 | G15: =IF(Calculator!$D$5=2025,IF(Calculator!$D$6="Married Filing Jointly",B15,C15),IF(Calculator!$D$6="Married Filing Jointly",D15,E15))
B16: 206700 | C16: 103350 | D16: 211400 | E16: 105700 | F16: 0.02 | G16: =IF(Calculator!$D$5=2025,IF(Calculator!$D$6="Married Filing Jointly",B16,C16),IF(Calculator!$D$6="Married Filing Jointly",D16,E16))
B17: 394600 | C17: 197300 | D17: 403550 | E17: 201775 | F17: 0.08 | G17: =IF(Calculator!$D$5=2025,IF(Calculator!$D$6="Married Filing Jointly",B17,C17),IF(Calculator!$D$6="Married Filing Jointly",D17,E17))
B18: 501050 | C18: 250525 | D18: 512450 | E18: 256225 | F18: 0.03 | G18: =IF(Calculator!$D$5=2025,IF(Calculator!$D$6="Married Filing Jointly",B18,C18),IF(Calculator!$D$6="Married Filing Jointly",D18,E18))
B19: 751600 | C19: 626350 | D19: 768700 | E19: 640600 | F19: 0.02 | G19: =IF(Calculator!$D$5=2025,IF(Calculator!$D$6="Married Filing Jointly",B19,C19),IF(Calculator!$D$6="Married Filing Jointly",D19,E19))
A21: IRMAA TIERS (Part B monthly)
B22: 0 | C22: 0 | D22: 185 | E22: 0 | F22: 0 | G22: 202.9 | H22: =IF(Calculator!$D$5=2025,IF(Calculator!$D$6="Married Filing Jointly",B22,C22),IF(Calculator!$D$6="Married Filing Jointly",E22,F22)) | I22: =IF(Calculator!$D$5=2025,D22,G22)
B23: 212000 | C23: 106000 | D23: 259 | E23: 218000 | F23: 109000 | G23: 284.06 | H23: =IF(Calculator!$D$5=2025,IF(Calculator!$D$6="Married Filing Jointly",B23,C23),IF(Calculator!$D$6="Married Filing Jointly",E23,F23)) | I23: =IF(Calculator!$D$5=2025,D23,G23)
B24: 266000 | C24: 133000 | D24: 370 | E24: 274000 | F24: 137000 | G24: 405.8 | H24: =IF(Calculator!$D$5=2025,IF(Calculator!$D$6="Married Filing Jointly",B24,C24),IF(Calculator!$D$6="Married Filing Jointly",E24,F24)) | I24: =IF(Calculator!$D$5=2025,D24,G24)
B25: 334000 | C25: 167000 | D25: 444.9 | E25: 342000 | F25: 171000 | G25: 527.54 | H25: =IF(Calculator!$D$5=2025,IF(Calculator!$D$6="Married Filing Jointly",B25,C25),IF(Calculator!$D$6="Married Filing Jointly",E25,F25)) | I25: =IF(Calculator!$D$5=2025,D25,G25)
B26: 400000 | C26: 200000 | D26: 591.9 | E26: 410000 | F26: 205000 | G26: 649.28 | H26: =IF(Calculator!$D$5=2025,IF(Calculator!$D$6="Married Filing Jointly",B26,C26),IF(Calculator!$D$6="Married Filing Jointly",E26,F26)) | I26: =IF(Calculator!$D$5=2025,D26,G26)
B27: 750000 | C27: 500000 | D27: 628.9 | E27: 750000 | F27: 500000 | G27: 690.2 | H27: =IF(Calculator!$D$5=2025,IF(Calculator!$D$6="Married Filing Jointly",B27,C27),IF(Calculator!$D$6="Married Filing Jointly",E27,F27)) | I27: =IF(Calculator!$D$5=2025,D27,G27)
A30: NEW YORK BRACKETS (2025)
B31: 0 | C31: 0 | D31: 0.04 | E31: =IF(Calculator!$D$6="Married Filing Jointly",B31,C31)
B32: 17150 | C32: 8500 | D32: 0.005 | E32: =IF(Calculator!$D$6="Married Filing Jointly",B32,C32)
B33: 23600 | C33: 11700 | D33: 0.0075 | E33: =IF(Calculator!$D$6="Married Filing Jointly",B33,C33)
B34: 27900 | C34: 13900 | D34: 0.0025 | E34: =IF(Calculator!$D$6="Married Filing Jointly",B34,C34)
B35: 161550 | C35: 80650 | D35: 0.005 | E35: =IF(Calculator!$D$6="Married Filing Jointly",B35,C35)
B36: 323200 | C36: 215400 | D36: 0.0085 | E36: =IF(Calculator!$D$6="Married Filing Jointly",B36,C36)
B37: 2155350 | C37: 1077550 | D37: 0.028 | E37: =IF(Calculator!$D$6="Married Filing Jointly",B37,C37)
B38: 5000000 | C38: 5000000 | D38: 0.0065 | E38: =IF(Calculator!$D$6="Married Filing Jointly",B38,C38)
B39: 25000000 | C39: 25000000 | D39: 0.006 | E39: =IF(Calculator!$D$6="Married Filing Jointly",B39,C39)
A42: NY std deduction | B42: 16050 | C42: 8000 | D42: =IF(Calculator!$D$6="Married Filing Jointly",B42,C42)
A43: NY pension/IRA exclusion per person | D43: 20000
A45: CALCULATOR ENGINE (do not edit)
A46: OrdinaryOther | B46: =Calculator!$D$10+Calculator!$D$11+Calculator!$D$12
A47: LTCG | B47: =Calculator!$D$13
...

Sheet Calculator
B2: SOCIAL SECURITY TAX TORPEDO: Taxability Calculator
B3: See how each dollar of retirement withdrawal drags your Social Security into tax, and spikes Medicare premiums.
B4: YOUR INPUTS (change the gold cells)
B5: Tax year | D5: 2025
B6: Filing status | D6: Married Filing Jointly
B7: Your age | D7: 67
B8: Spouse age (ignored if Single) | D8: 67
B10: Traditional IRA / 401(k) / 457 / 403(b) withdrawals | D10: 40000
B11: Pension income | D11: 0
B12: Other ordinary income (taxable interest, etc.) | D12: 0
B13: Long-term capital gains + qualified dividends | D13: 0
B14: Tax-exempt interest (municipal bonds) | D14: 0
B15: QBI / other deduction, if any | D15: 0
B16: Social Security, YOU (annual) | D16: 30000
B17: Social Security, SPOUSE (annual) | D17: 18000
B19: HOW YOUR SOCIAL SECURITY IS TAXED
B20: Total Social Security (you + spouse) | D20: =Config!$B$50
B21: Provisional / 'combined' income (incl. tax-exempt interest) | D21: =Config!$B$51
B22: Taxable Social Security | D22: =Config!$B$52
B23: % of your Social Security that is taxed | D23: =IF(Config!$B$50=0,0,Config!$B$52/Config!$B$50)
B25: FEDERAL INCOME TAX
B26: Adjusted Gross Income (AGI) | D26: =Config!$B$53
B27: Standard deduction (incl. age-65 bump) | D27: =Config!$B$55
B28: Senior bonus deduction (OBBBA, 2025-28) | D28: =Config!$B$56
B29: QBI / other deduction | D29: =Config!$B$49
B30: Taxable income | D30: =Config!$B$57
B31: Federal income tax | D31: =Config!$B$66
B32: Effective federal rate (tax ÷ AGI) | D32: =IF(Config!$B$53=0,0,Config!$B$66/Config!$B$53)
B34: NEW YORK STATE TAX (2025 law: SS is NOT taxed by NY)
B35: NY pension / IRA exclusion applied | D35: =Config!$B$73
B36: NY taxable income | D36: =Config!$B$75
B37: New York State income tax | D37: =Config!$B$76
B39: MEDICARE IRMAA (premium surcharge: the torpedo's twin)
B40: IRMAA MAGI (AGI + tax-exempt interest) | D40: =Config!$B$67
B41: Your monthly Part B premium (per person, this tier) | D41: =Config!$B$68
B42: Extra IRMAA surcharge vs. base (household / year) | D42: =Config!$B$71
B44: Educational estimate. The four Social Security thresholds ($25k/$32k, $34k/$44k) have NEVER been inflation-adjusted since the 1980s/1993; that is what creates the 'torpedo': each added dollar of withdrawal makes up to $0.85 of your Social Security taxable too, pushing your TRUE marginal rate well above your bracket (see the Tax Torpedo tab). Capital gains/qualified dividends also count in provisional income and can trigger it. NY figures use 2025 law; government/military pensions may be fully NY-exempt (not modeled). IRMAA normally uses MAGI from 2 years prior; shown here on current income for planning. NIIT and state muni add-backs not modeled. Not tax advice.

Sheet Tax Torpedo
A1: THE SOCIAL SECURITY TAX TORPEDO: what happens as withdrawals rise
A2: Holds every Calculator input fixed except the traditional withdrawal, which steps up $5,000 at a time. Watch the marginal rate spike inside the torpedo zone (red), then fall back, and the IRMAA surcharge appear.
A4: Withdrawal | B4: Provisional income | C4: Taxable SS | D4: % SS taxed | E4: AGI | F4: Taxable income | G4: Federal tax | H4: Marginal rate on next $5k | I4: IRMAA premium/mo | J4: IRMAA surcharge/yr (hh)
A5: 0 | B5: =(A5+(Calculator!$D$11+Calculator!$D$12)+Calculator!$D$13+Calculator!$D$14+0.5*Config!$B$50) | C5: =MIN(0.85*Config!$B$50,MIN(0.5*Config!$B$50,0.5*MIN(MAX(B5-Config!$F$2,0),Config!$F$3-Config!$F$2))+0.85*MAX(B5-Config!$F$3,0)) | D5: =IF(Config!$B$50=0,0,C5/Config!$B$50) | E5: =(A5+(Calculator!$D$11+Calculator!$D$12)+Calculator!$D$13)+C5 | F5: =MAX(0,E5-Config!$B$55-K5-Calculator!$D$15) | G5: =SUMPRODUCT((M5>Config!$G$13:$G$19)*(M5-Config!$G$13:$G$19)*Config!$F$13:$F$19)+0.15*Q5+0.2*(O5-Q5) | I5: =LOOKUP(E5+Calculator!$D$14,Config!$H$22:$H$27,Config!$I$22:$I$27) | J5: =(I5-Config!$I$22)*12*Config!$B$54 | K5: =MAX(0,MIN(Config!$F$6*Config!$B$54,Config!$F$6*Config!$B$54-Config!$F$8*MAX(0,(E5+Calculator!$D$14)-Config!$F$7))) | L5: =MIN(Calculator!$D$13,F5) | M5: =F5-L5 | N5: =MIN(L5,MAX(0,Config!$F$9-M5)) | O5: =L5-N5 | P5: =MAX(0,Config!$F$10-MAX(M5,Config!$F$9)) | Q5: =MIN(O5,P5)
A6: =A5+5000 | B6: =(A6+(Calculator!$D$11+Calculator!$D$12)+Calculator!$D$13+Calculator!$D$14+0.5*Config!$B$50) | C6: =MIN(0.85*Config!$B$50,MIN(0.5*Config!$B$50,0.5*MIN(MAX(B6-Config!$F$2,0),Config!$F$3-Config!$F$2))+0.85*MAX(B6-Config!$F$3,0)) | D6: =IF(Config!$B$50=0,0,C6/Config!$B$50) | E6: =(A6+(Calculator!$D$11+Calculator!$D$12)+Calculator!$D$13)+C6 | F6: =MAX(0,E6-Config!$B$55-K6-Calculator!$D$15) | G6: =SUMPRODUCT((M6>Config!$G$13:$G$19)*(M6-Config!$G$13:$G$19)*Config!$F$13:$F$19)+0.15*Q6+0.2*(O6-Q6) | H6: =(G6-G5)/5000 | I6: =LOOKUP(E6+Calculator!$D$14,Config!$H$22:$H$27,Config!$I$22:$I$27) | J6: =(I6-Config!$I$22)*12*Config!$B$54 | K6: =MAX(0,MIN(Config!$F$6*Config!$B$54,Config!$F$6*Config!$B$54-Config!$F$8*MAX(0,(E6+Calculator!$D$14)-Config!$F$7))) | L6: =MIN(Calculator!$D$13,F6) | M6: =F6-L6 | N6: =MIN(L6,MAX(0,Config!$F$9-M6)) | O6: =L6-N6 | P6: =MAX(0,Config!$F$10-MAX(M6,Config!$F$9)) | Q6: =MIN(O6,P6)
A7: =A6+5000 | B7: =(A7+(Calculator!$D$11+Calculator!$D$12)+Calculator!$D$13+Calculator!$D$14+0.5*Config!$B$50) | C7: =MIN(0.85*Config!$B$50,MIN(0.5*Config!$B$50,0.5*MIN(MAX(B7-Config!$F$2,0),Config!$F$3-Config!$F$2))+0.85*MAX(B7-Config!$F$3,0)) | D7: =IF(Config!$B$50=0,0,C7/Config!$B$50) | E7: =(A7+(Calculator!$D$11+Calculator!$D$12)+Calculator!$D$13)+C7 | F7: =MAX(0,E7-Config!$B$55-K7-Calculator!$D$15) | G7: =SUMPRODUCT((M7>Config!$G$13:$G$19)*(M7-Config!$G$13:$G$19)*Config!$F$13:$F$19)+0.15*Q7+0.2*(O7-Q7) | H7: =(G7-G6)/5000 | I7: =LOOKUP(E7+Calculator!$D$14,Config!$H$22:$H$27,Config!$I$22:$I$27) | J7: =(I7-Config!$I$22)*12*Config!$B$54 | K7: =MAX(0,MIN(Config!$F$6*Config!$B$54,Config!$F$6*Config!$B$54-Config!$F$8*MAX(0,(E7+Calculator!$D$14)-Config!$F$7))) | L7: =MIN(Calculator!$D$13,F7) | M7: =F7-L7 | N7: =MIN(L7,MAX(0,Config!$F$9-M7)) | O7: =L7-N7 | P7: =MAX(0,Config!$F$10-MAX(M7,Config!$F$9)) | Q7: =MIN(O7,P7)
A8: =A7+5000 | B8: =(A8+(Calculator!$D$11+Calculator!$D$12)+Calculator!$D$13+Calculator!$D$14+0.5*Config!$B$50) | C8: =MIN(0.85*Config!$B$50,MIN(0.5*Config!$B$50,0.5*MIN(MAX(B8-Config!$F$2,0),Config!$F$3-Config!$F$2))+0.85*MAX(B8-Config!$F$3,0)) | D8: =IF(Config!$B$50=0,0,C8/Config!$B$50) | E8: =(A8+(Calculator!$D$11+Calculator!$D$12)+Calculator!$D$13)+C8 | F8: =MAX(0,E8-Config!$B$55-K8-Calculator!$D$15) | G8: =SUMPRODUCT((M8>Config!$G$13:$G$19)*(M8-Config!$G$13:$G$19)*Config!$F$13:$F$19)+0.15*Q8+0.2*(O8-Q8) | H8: =(G8-G7)/5000 | I8: =LOOKUP(E8+Calculator!$D$14,Config!$H$22:$H$27,Config!$I$22:$I$27) | J8: =(I8-Config!$I$22)*12*Config!$B$54 | K8: =MAX(0,MIN(Config!$F$6*Config!$B$54,Config!$F$6*Config!$B$54-Config!$F$8*MAX(0,(E8+Calculator!$D$14)-Config!$F$7))) | L8: =MIN(Calculator!$D$13,F8) | M8: =F8-L8 | N8: =MIN(L8,MAX(0,Config!$F$9-M8)) | O8: =L8-N8 | P8: =MAX(0,Config!$F$10-MAX(M8,Config!$F$9)) | Q8: =MIN(O8,P8)
A9: =A8+5000 | B9: =(A9+(Calculator!$D$11+Calculator!$D$12)+Calculator!$D$13+Calculator!$D$14+0.5*Config!$B$50) | C9: =MIN(0.85*Config!$B$50,MIN(0.5*Config!$B$50,0.5*MIN(MAX(B9-Config!$F$2,0),Config!$F$3-Config!$F$2))+0.85*MAX(B9-Config!$F$3,0)) | D9: =IF(Config!$B$50=0,0,C9/Config!$B$50) | E9: =(A9+(Calculator!$D$11+Calculator!$D$12)+Calculator!$D$13)+C9 | F9: =MAX(0,E9-Config!$B$55-K9-Calculator!$D$15) | G9: =SUMPRODUCT((M9>Config!$G$13:$G$19)*(M9-Config!$G$13:$G$19)*Config!$F$13:$F$19)+0.15*Q9+0.2*(O9-Q9) | H9: =(G9-G8)/5000 | I9: =LOOKUP(E9+Calculator!$D$14,Config!$H$22:$H$27,Config!$I$22:$I$27) | J9: =(I9-Config!$I$22)*12*Config!$B$54 | K9: =MAX(0,MIN(Config!$F$6*Config!$B$54,Config!$F$6*Config!$B$54-Config!$F$8*MAX(0,(E9+Calculator!$D$14)-Config!$F$7))) | L9: =MIN(Calculator!$D$13,F9) | M9: =F9-L9 | N9: =MIN(L9,MAX(0,Config!$F$9-M9)) | O9: =L9-N9 | P9: =MAX(0,Config!$F$10-MAX(M9,Config!$F$9)) | Q9: =MIN(O9,P9)
A10: =A9+5000 | B10: =(A10+(Calculator!$D$11+Calculator!$D$12)+Calculator!$D$13+Calculator!$D$14+0.5*Config!$B$50) | C10: =MIN(0.85*Config!$B$50,MIN(0.5*Config!$B$50,0.5*MIN(MAX(B10-Config!$F$2,0),Config!$F$3-Config!$F$2))+0.85*MAX(B10-Config!$F$3,0)) | D10: =IF(Config!$B$50=0,0,C10/Config!$B$50) | E10: =(A10+(Calculator!$D$11+Calculator!$D$12)+Calculator!$D$13)+C10 | F10: =MAX(0,E10-Config!$B$55-K10-Calculator!$D$15) | G10: =SUMPRODUCT((M10>Config!$G$13:$G$19)*(M10-Config!$G$13:$G$19)*Config!$F$13:$F$19)+0.15*Q10+0.2*(O10-Q10) | H10: =(G10-G9)/5000 | I10: =LOOKUP(E10+Calculator!$D$14,Config!$H$22:$H$27,Config!$I$22:$I$27) | J10: =(I10-Config!$I$22)*12*Config!$B$54 | K10: =MAX(0,MIN(Config!$F$6*Config!$B$54,Config!$F$6*Config!$B$54-Config!$F$8*MAX(0,(E10+Calculator!$D$14)-Config!$F$7))) | L10: =MIN(Calculator!$D$13,F10) | M10: =F10-L10 | N10: =MIN(L10,MAX(0,Config!$F$9-M10)) | O10: =L10-N10 | P10: =MAX(0,Config!$F$10-MAX(M10,Config!$F$9)) | Q10: =MIN(O10,P10)
A11: =A10+5000 | B11: =(A11+(Calculator!$D$11+Calculator!$D$12)+Calculator!$D$13+Calculator!$D$14+0.5*Config!$B$50) | C11: =MIN(0.85*Config!$B$50,MIN(0.5*Config!$B$50,0.5*MIN(MAX(B11-Config!$F$2,0),Config!$F$3-Config!$F$2))+0.85*MAX(B11-Config!$F$3,0)) | D11: =IF(Config!$B$50=0,0,C11/Config!$B$50) | E11: =(A11+(Calculator!$D$11+Calculator!$D$12)+Calculator!$D$13)+C11 | F11: =MAX(0,E11-Config!$B$55-K11-Calculator!$D$15) | G11: =SUMPRODUCT((M11>Config!$G$13:$G$19)*(M11-Config!$G$13:$G$19)*Config!$F$13:$F$19)+0.15*Q11+0.2*(O11-Q11) | H11: =(G11-G10)/5000 | I11: =LOOKUP(E11+Calculator!$D$14,Config!$H$22:$H$27,Config!$I$22:$I$27) | J11: =(I11-Config!$I$22)*12*Config!$B$54 | K11: =MAX(0,MIN(Config!$F$6*Config!$B$54,Config!$F$6*Config!$B$54-Config!$F$8*MAX(0,(E11+Calculator!$D$14)-Config!$F$7))) | L11: =MIN(Calculator!$D$13,F11) | M11: =F11-L11 | N11: =MIN(L11,MAX(0,Config!$F$9-M11)) | O11: =L11-N11 | P11: =MAX(0,Config!$F$10-MAX(M11,Config!$F$9)) | Q11: =MIN(O11,P11)
A12: =A11+5000 | B12: =(A12+(Calculator!$D$11+Calculator!$D$12)+Calculator!$D$13+Calculator!$D$14+0.5*Config!$B$50) | C12: =MIN(0.85*Config!$B$50,MIN(0.5*Config!$B$50,0.5*MIN(MAX(B12-Config!$F$2,0),Config!$F$3-Config!$F$2))+0.85*MAX(B12-Config!$F$3,0)) | D12: =IF(Config!$B$50=0,0,C12/Config!$B$50) | E12: =(A12+(Calculator!$D$11+Calculator!$D$12)+Calculator!$D$13)+C12 | F12: =MAX(0,E12-Config!$B$55-K12-Calculator!$D$15) | G12: =SUMPRODUCT((M12>Config!$G$13:$G$19)*(M12-Config!$G$13:$G$19)*Config!$F$13:$F$19)+0.15*Q12+0.2*(O12-Q12) | H12: =(G12-G11)/5000 | I12: =LOOKUP(E12+Calculator!$D$14,Config!$H$22:$H$27,Config!$I$22:$I$27) | J12: =(I12-Config!$I$22)*12*Config!$B$54 | K12: =MAX(0,MIN(Config!$F$6*Config!$B$54,Config!$F$6*Config!$B$54-Config!$F$8*MAX(0,(E12+Calculator!$D$14)-Config!$F$7))) | L12: =MIN(Calculator!$D$13,F12) | M12: =F12-L12 | N12: =MIN(L12,MAX(0,Config!$F$9-M12)) | O12: =L12-N12 | P12: =MAX(0,Config!$F$10-MAX(M12,Config!$F$9)) | Q12: =MIN(O12,P12)
A13: =A12+5000 | B13: =(A13+(Calculator!$D$11+Calculator!$D$12)+Calculator!$D$13+Calculator!$D$14+0.5*Config!$B$50) | C13: =MIN(0.85*Config!$B$50,MIN(0.5*Config!$B$50,0.5*MIN(MAX(B13-Config!$F$2,0),Config!$F$3-Config!$F$2))+0.85*MAX(B13-Config!$F$3,0)) | D13: =IF(Config!$B$50=0,0,C13/Config!$B$50) | E13: =(A13+(Calculator!$D$11+Calculator!$D$12)+Calculator!$D$13)+C13 | F13: =MAX(0,E13-Config!$B$55-K13-Calculator!$D$15) | G13: =SUMPRODUCT((M13>Config!$G$13:$G$19)*(M13-Config!$G$13:$G$19)*Config!$F$13:$F$19)+0.15*Q13+0.2*(O13-Q13) | H13: =(G13-G12)/5000 | I13: =LOOKUP(E13+Calculator!$D$14,Config!$H$22:$H$27,Config!$I$22:$I$27) | J13: =(I13-Config!$I$22)*12*Config!$B$54 | K13: =MAX(0,MIN(Config!$F$6*Config!$B$54,Config!$F$6*Config!$B$54-Config!$F$8*MAX(0,(E13+Calculator!$D$14)-Config!$F$7))) | L13: =MIN(Calculator!$D$13,F13) | M13: =F13-L13 | N13: =MIN(L13,MAX(0,Config!$F$9-M13)) | O13: =L13-N13 | P13: =MAX(0,Config!$F$10-MAX(M13,Config!$F$9)) | Q13: =MIN(O13,P13)
A14: =A13+5000 | B14: =(A14+(Calculator!$D$11+Calculator!$D$12)+Calculator!$D$13+Calculator!$D$14+0.5*Config!$B$50) | C14: =MIN(0.85*Config!$B$50,MIN(0.5*Config!$B$50,0.5*MIN(MAX(B14-Config!$F$2,0),Config!$F$3-Config!$F$2))+0.85*MAX(B14-Config!$F$3,0)) | D14: =IF(Config!$B$50=0,0,C14/Config!$B$50) | E14: =(A14+(Calculator!$D$11+Calculator!$D$12)+Calculator!$D$13)+C14 | F14: =MAX(0,E14-Config!$B$55-K14-Calculator!$D$15) | G14: =SUMPRODUCT((M14>Config!$G$13:$G$19)*(M14-Config!$G$13:$G$19)*Config!$F$13:$F$19)+0.15*Q14+0.2*(O14-Q14) | H14: =(G14-G13)/5000 | I14: =LOOKUP(E14+Calculator!$D$14,Config!$H$22:$H$27,Config!$I$22:$I$27) | J14: =(I14-Config!$I$22)*12*Config!$B$54 | K14: =MAX(0,MIN(Config!$F$6*Config!$B$54,Config!$F$6*Config!$B$54-Config!$F$8*MAX(0,(E14+Calculator!$D$14)-Config!$F$7))) | L14: =MIN(Calculator!$D$13,F14) | M14: =F14-L14 | N14: =MIN(L14,MAX(0,Config!$F$9-M14)) | O14: =L14-N14 | P14: =MAX(0,Config!$F$10-MAX(M14,Config!$F$9)) | Q14: =MIN(O14,P14)
A15: =A14+5000 | B15: =(A15+(Calculator!$D$11+Calculator!$D$12)+Calculator!$D$13+Calculator!$D$14+0.5*Config!$B$50) | C15: =MIN(0.85*Config!$B$50,MIN(0.5*Config!$B$50,0.5*MIN(MAX(B15-Config!$F$2,0),Config!$F$3-Config!$F$2))+0.85*MAX(B15-Config!$F$3,0)) | D15: =IF(Config!$B$50=0,0,C15/Config!$B$50) | E15: =(A15+(Calculator!$D$11+Calculator!$D$12)+Calculator!$D$13)+C15 | F15: =MAX(0,E15-Config!$B$55-K15-Calculator!$D$15) | G15: =SUMPRODUCT((M15>Config!$G$13:$G$19)*(M15-Config!$G$13:$G$19)*Config!$F$13:$F$19)+0.15*Q15+0.2*(O15-Q15) | H15: =(G15-G14)/5000 | I15: =LOOKUP(E15+Calculator!$D$14,Config!$H$22:$H$27,Config!$I$22:$I$27) | J15: =(I15-Config!$I$22)*12*Config!$B$54 | K15: =MAX(0,MIN(Config!$F$6*Config!$B$54,Config!$F$6*Config!$B$54-Config!$F$8*MAX(0,(E15+Calculator!$D$14)-Config!$F$7))) | L15: =MIN(Calculator!$D$13,F15) | M15: =F15-L15 | N15: =MIN(L15,MAX(0,Config!$F$9-M15)) | O15: =L15-N15 | P15: =MAX(0,Config!$F$10-MAX(M15,Config!$F$9)) | Q15: =MIN(O15,P15)
A16: =A15+5000 | B16: =(A16+(Calculator!$D$11+Calculator!$D$12)+Calculator!$D$13+Calculator!$D$14+0.5*Config!$B$50) | C16: =MIN(0.85*Config!$B$50,MIN(0.5*Config!$B$50,0.5*MIN(MAX(B16-Config!$F$2,0),Config!$F$3-Config!$F$2))+0.85*MAX(B16-Config!$F$3,0)) | D16: =IF(Config!$B$50=0,0,C16/Config!$B$50) | E16: =(A16+(Calculator!$D$11+Calculator!$D$12)+Calculator!$D$13)+C16 | F16: =MAX(0,E16-Config!$B$55-K16-Calculator!$D$15) | G16: =SUMPRODUCT((M16>Config!$G$13:$G$19)*(M16-Config!$G$13:$G$19)*Config!$F$13:$F$19)+0.15*Q16+0.2*(O16-Q16) | H16: =(G16-G15)/5000 | I16: =LOOKUP(E16+Calculator!$D$14,Config!$H$22:$H$27,Config!$I$22:$I$27) | J16: =(I16-Config!$I$22)*12*Config!$B$54 | K16: =MAX(0,MIN(Config!$F$6*Config!$B$54,Config!$F$6*Config!$B$54-Config!$F$8*MAX(0,(E16+Calculator!$D$14)-Config!$F$7))) | L16: =MIN(Calculator!$D$13,F16) | M16: =F16-L16 | N16: =MIN(L16,MAX(0,Config!$F$9-M16)) | O16: =L16-N16 | P16: =MAX(0,Config!$F$10-MAX(M16,Config!$F$9)) | Q16: =MIN(O16,P16)
A17: =A16+5000 | B17: =(A17+(Calculator!$D$11+Calculator!$D$12)+Calculator!$D$13+Calculator!$D$14+0.5*Config!$B$50) | C17: =MIN(0.85*Config!$B$50,MIN(0.5*Config!$B$50,0.5*MIN(MAX(B17-Config!$F$2,0),Config!$F$3-Config!$F$2))+0.85*MAX(B17-Config!$F$3,0)) | D17: =IF(Config!$B$50=0,0,C17/Config!$B$50) | E17: =(A17+(Calculator!$D$11+Calculator!$D$12)+Calculator!$D$13)+C17 | F17: =MAX(0,E17-Config!$B$55-K17-Calculator!$D$15) | G17: =SUMPRODUCT((M17>Config!$G$13:$G$19)*(M17-Config!$G$13:$G$19)*Config!$F$13:$F$19)+0.15*Q17+0.2*(O17-Q17) | H17: =(G17-G16)/5000 | I17: =LOOKUP(E17+Calculator!$D$14,Config!$H$22:$H$27,Config!$I$22:$I$27) | J17: =(I17-Config!$I$22)*12*Config!$B$54 | K17: =MAX(0,MIN(Config!$F$6*Config!$B$54,Config!$F$6*Config!$B$54-Config!$F$8*MAX(0,(E17+Calculator!$D$14)-Config!$F$7))) | L17: =MIN(Calculator!$D$13,F17) | M17: =F17-L17 | N17: =MIN(L17,MAX(0,Config!$F$9-M17)) | O17: =L17-N17 | P17: =MAX(0,Config!$F$10-MAX(M17,Config!$F$9)) | Q17: =MIN(O17,P17)
... A35: =A34+5000 | B35: =(A35+(Calculator!$D$11+Calculator!$D$12)+Calculator!$D$13+Calculator!$D$14+0.5*Config!$B$50) | C35: =MIN(0.85*Config!$B$50,MIN(0.5*Config!$B$50,0.5*MIN(MAX(B35-Config!$F$2,0),Config!$F$3-Config!$F$2))+0.85*MAX(B35-Config!$F$3,0)) | D35: =IF(Config!$B$50=0,0,C35/Config!$B$50) | E35: =(A35+(Calculator!$D$11+Calculator!$D$12)+Calculator!$D$13)+C35 | F35: =MAX(0,E35-Config!$B$55-K35-Calculator!$D$15) | G35: =SUMPRODUCT((M35>Config!$G$13:$G$19)*(M35-Config!$G$13:$G$19)*Config!$F$13:$F$19)+0.15*Q35+0.2*(O35-Q35) | H35: =(G35-G34)/5000 | I35: =LOOKUP(E35+Calculator!$D$14,Config!$H$22:$H$27,Config!$I$22:$I$27) | J35: =(I35-Config!$I$22)*12*Config!$B$54 | K35: =MAX(0,MIN(Config!$F$6*Config!$B$54,Config!$F$6*Config!$B$54-Config!$F$8*MAX(0,(E35+Calculator!$D$14)-Config!$F$7))) | L35: =MIN(Calculator!$D$13,F35) | M35: =F35-L35 | N35: =MIN(L35,MAX(0,Config!$F$9-M35)) | O35: =L35-N35 | P35: =MAX(0,Config!$F$10-MAX(M35,Config!$F$9)) | Q35: =MIN(O35,P35)
